BEGIN:VCALENDAR
VERSION:2.0
PRODID:-//Sask Alta Radio Club - ECPv6.15.20//NONSGML v1.0//EN
CALSCALE:GREGORIAN
METHOD:PUBLISH
X-WR-CALNAME:Sask Alta Radio Club
X-ORIGINAL-URL:https://saskaltarc.ca
X-WR-CALDESC:Events for Sask Alta Radio Club
REFRESH-INTERVAL;VALUE=DURATION:PT1H
X-Robots-Tag:noindex
X-PUBLISHED-TTL:PT1H
BEGIN:VTIMEZONE
TZID:America/Edmonton
BEGIN:DAYLIGHT
TZOFFSETFROM:-0700
TZOFFSETTO:-0600
TZNAME:MDT
DTSTART:20230312T090000
END:DAYLIGHT
BEGIN:STANDARD
TZOFFSETFROM:-0600
TZOFFSETTO:-0700
TZNAME:MST
DTSTART:20231105T080000
END:STANDARD
BEGIN:DAYLIGHT
TZOFFSETFROM:-0700
TZOFFSETTO:-0600
TZNAME:MDT
DTSTART:20240310T090000
END:DAYLIGHT
BEGIN:STANDARD
TZOFFSETFROM:-0600
TZOFFSETTO:-0700
TZNAME:MST
DTSTART:20241103T080000
END:STANDARD
BEGIN:DAYLIGHT
TZOFFSETFROM:-0700
TZOFFSETTO:-0600
TZNAME:MDT
DTSTART:20250309T090000
END:DAYLIGHT
BEGIN:STANDARD
TZOFFSETFROM:-0600
TZOFFSETTO:-0700
TZNAME:MST
DTSTART:20251102T080000
END:STANDARD
END:VTIMEZONE
BEGIN:VEVENT
DTSTART;TZID=America/Edmonton:20241207T090000
DTEND;TZID=America/Edmonton:20241207T130000
DTSTAMP:20260421T181908
CREATED:20240828T224152Z
LAST-MODIFIED:20240910T000816Z
UID:5377-1733562000-1733576400@saskaltarc.ca
SUMMARY:Basic Amateur Radio Course
DESCRIPTION:Time: 9:00AM – 1:00PM \nLocation: To Be Determined
URL:https://saskaltarc.ca/event/basic-amateur-radio-course-8/
CATEGORIES:Classes
END:VEVENT
BEGIN:VEVENT
DTSTART;TZID=America/Edmonton:20241130T090000
DTEND;TZID=America/Edmonton:20241130T130000
DTSTAMP:20260421T181908
CREATED:20240828T224106Z
LAST-MODIFIED:20240910T000756Z
UID:5375-1732957200-1732971600@saskaltarc.ca
SUMMARY:Basic Amateur Radio Course
DESCRIPTION:Time: 9:00AM – 1:00PM \nLocation: To Be Determined
URL:https://saskaltarc.ca/event/basic-amateur-radio-course-7/
CATEGORIES:Classes
END:VEVENT
BEGIN:VEVENT
DTSTART;TZID=America/Edmonton:20241123T090000
DTEND;TZID=America/Edmonton:20241123T130000
DTSTAMP:20260421T181908
CREATED:20240828T224035Z
LAST-MODIFIED:20240910T000731Z
UID:5373-1732352400-1732366800@saskaltarc.ca
SUMMARY:Basic Amateur Radio Course
DESCRIPTION:Time: 9:00AM – 1:00PM \nLocation: To Be Determined
URL:https://saskaltarc.ca/event/basic-amateur-radio-course-6/
CATEGORIES:Classes
END:VEVENT
BEGIN:VEVENT
DTSTART;TZID=America/Edmonton:20241116T090000
DTEND;TZID=America/Edmonton:20241116T130000
DTSTAMP:20260421T181908
CREATED:20240828T223953Z
LAST-MODIFIED:20240910T000712Z
UID:5371-1731747600-1731762000@saskaltarc.ca
SUMMARY:Basic Amateur Radio Course
DESCRIPTION:Time: 9:00AM – 1:00PM \nLocation: To Be Determined
URL:https://saskaltarc.ca/event/basic-amateur-radio-course-5/
CATEGORIES:Classes
END:VEVENT
BEGIN:VEVENT
DTSTART;TZID=America/Edmonton:20241109T090000
DTEND;TZID=America/Edmonton:20241109T130000
DTSTAMP:20260421T181908
CREATED:20240828T223915Z
LAST-MODIFIED:20240910T000320Z
UID:5369-1731142800-1731157200@saskaltarc.ca
SUMMARY:Basic Amateur Radio Course
DESCRIPTION:Time: 9:00AM – 1:00PM \nLocation: To Be Determined
URL:https://saskaltarc.ca/event/basic-amateur-radio-course-4/
CATEGORIES:Classes
END:VEVENT
BEGIN:VEVENT
DTSTART;TZID=America/Edmonton:20241102T090000
DTEND;TZID=America/Edmonton:20241102T130000
DTSTAMP:20260421T181908
CREATED:20240828T223743Z
LAST-MODIFIED:20240910T000259Z
UID:5367-1730538000-1730552400@saskaltarc.ca
SUMMARY:Basic Amateur Radio Course
DESCRIPTION:Time: 9:00AM – 1:00PM \nLocation: To Be Determined
URL:https://saskaltarc.ca/event/basic-amateur-radio-course-3/
CATEGORIES:Classes
END:VEVENT
BEGIN:VEVENT
DTSTART;TZID=America/Edmonton:20241026T090000
DTEND;TZID=America/Edmonton:20241026T130000
DTSTAMP:20260421T181908
CREATED:20240828T223628Z
LAST-MODIFIED:20240910T000231Z
UID:5365-1729933200-1729947600@saskaltarc.ca
SUMMARY:Basic Amateur Radio Course
DESCRIPTION:Time: 9:00AM – 1:00PM \nLocation: To Be Determined
URL:https://saskaltarc.ca/event/basic-amateur-radio-course-2/
CATEGORIES:Classes
END:VEVENT
BEGIN:VEVENT
DTSTART;TZID=America/Edmonton:20241019T090000
DTEND;TZID=America/Edmonton:20241019T130000
DTSTAMP:20260421T181908
CREATED:20240828T223429Z
LAST-MODIFIED:20240909T235935Z
UID:5363-1729328400-1729342800@saskaltarc.ca
SUMMARY:Basic Amateur Radio Course
DESCRIPTION:Date: Starts Saturday October 19th\, 2024 & runs every Saturday until the end of March 2025\nChristmas Break: Last class before Christmas December 14th\, 2024\, Classes resume on January 11th\, 2025.\nSee Events Calendar for More Info \nTime: 9:00AM – 1:00PM \nLocation: To Be Determined
URL:https://saskaltarc.ca/event/basic-amateur-radio-course/
CATEGORIES:Classes
END:VEVENT
BEGIN:VEVENT
DTSTART;TZID=America/Edmonton:20240428T210000
DTEND;TZID=America/Edmonton:20240428T210000
DTSTAMP:20260421T181908
CREATED:20240327T165804Z
LAST-MODIFIED:20240327T165804Z
UID:3086-1714338000-1714338000@saskaltarc.ca
SUMMARY:VE5RI Sunday Night Net
DESCRIPTION:Join us for our weekly Sunday night Net on the VE5RI Repeater System! \nTime: Every Sunday @ 9:00PM Mountain Standard Time (MST) \nRepeater Information: https://saskaltarc.ca/sarc-repeater-network/\nNet Format: https://saskaltarc.ca/ve5ri-net/
URL:https://saskaltarc.ca/event/ve5ri-sunday-night-net-8/
CATEGORIES:NET
END:VEVENT
BEGIN:VEVENT
DTSTART;TZID=America/Edmonton:20240421T210000
DTEND;TZID=America/Edmonton:20240421T210000
DTSTAMP:20260421T181908
CREATED:20240327T165724Z
LAST-MODIFIED:20240327T165724Z
UID:3084-1713733200-1713733200@saskaltarc.ca
SUMMARY:VE5RI Sunday Night Net
DESCRIPTION:Join us for our weekly Sunday night Net on the VE5RI Repeater System! \nTime: Every Sunday @ 9:00PM Mountain Standard Time (MST) \nRepeater Information: https://saskaltarc.ca/sarc-repeater-network/\nNet Format: https://saskaltarc.ca/ve5ri-net/
URL:https://saskaltarc.ca/event/ve5ri-sunday-night-net-7/
CATEGORIES:NET
END:VEVENT
BEGIN:VEVENT
DTSTART;VALUE=DATE:20240401
DTEND;VALUE=DATE:20240501
DTSTAMP:20260421T181908
CREATED:20240327T172227Z
LAST-MODIFIED:20240327T174447Z
UID:3088-1711929600-1714521599@saskaltarc.ca
SUMMARY:RCAF 100th Anniversary Special Event
DESCRIPTION:[Details] \nOur Callsign : VE6RCAF \nObjective : Promote 100th Anniversary of the Royal Canadian Air Force https://rcaf2024arc.ca/ \nInfo : The event will run for the entire month of April and we can operate from our home stations. \nGuidelines : This is a special event and not a contest. All modes available. \nIt is suggested that we try not to duplicate band/mode at the same time so we are coordinating via a Facebook chat on our facebook page – SaskAlta Facebook Page:  https://www.facebook.com/groups/891743477506025 \nAn electronic log is preferred. We suggest using N1MM+ https://n1mmwp.hamdocs.com/ \nExchange : Callsign\, signal report\, a statement recognizing the special event\, invite them to check out QRZ page \nEG:// We are the SaskAlta radio club participating in a Special event celebrating 100th anniversary of the Royal Canadian Air Force. Please check out or QRZ page for more info. Contact other stations across Canada during April.  \nPDF certificates will be available later. \nRelated Celebrations  \nThe Medicine Hat Chapter of the Canadian Aviation Historical Society \nApril 8\, 2024 @ 7:00PM \nLocation: Monarch Theater\, Downtown Medicine Hat \nhttps://www.cahs.com/rcaf-100-anniversary-events.html \n\nMedia
URL:https://saskaltarc.ca/event/rcaf-100th-anniversary-special-event/
CATEGORIES:Special Event
END:VEVENT
END:VCALENDAR